BEGIN:VCALENDAR
METHOD:REQUEST
PRODID:-//events.orgNONSGML ical.net 4.0//EN
VERSION:2.0
BEGIN:VEVENT
DTEND;VALUE=DATE:20260912
DTSTAMP:20260421T082457Z
DTSTART;VALUE=DATE:20260912
LOCATION:Pechanga Arena San Diego\, San Diego
ORGANIZER;CN=:mailto:events@events.org
SEQUENCE:0
SUMMARY:Ringling Bros B&B: The Greatest Show on Earth
UID:17de1f07-4abe-4ceb-931f-682b80d2174f
URL:https://events.org/e/Ringling-Bros-BB-The-Greatest-Show-on-Earth/VDK2Y
 JEI
BEGIN:VALARM
ACTION:DISPLAY
SUMMARY:Reminder
TRIGGER:-P1D
END:VALARM
END:VEVENT
END:VCALENDAR
