BEGIN:VCALENDAR
METHOD:REQUEST
PRODID:-//events.orgNONSGML ical.net 4.0//EN
VERSION:2.0
BEGIN:VEVENT
DTEND;VALUE=DATE:20260516
DTSTAMP:20260421T085323Z
DTSTART;VALUE=DATE:20260516
LOCATION:The Eastern-GA\, Atlanta
ORGANIZER;CN=:mailto:events@events.org
SEQUENCE:0
SUMMARY:Red Bull Dance Your Style ??? Atlanta Qualifier (16 and Over)
UID:3bece29a-edf8-4f48-b09a-7486225db7d6
URL:https://events.org/e/Red-Bull-Dance-Your-Style-Atlanta-Qualifier-1/MAQ
 WDYNB
BEGIN:VALARM
ACTION:DISPLAY
SUMMARY:Reminder
TRIGGER:-P1D
END:VALARM
END:VEVENT
END:VCALENDAR
