BEGIN:VCALENDAR
METHOD:REQUEST
PRODID:-//events.orgNONSGML ical.net 4.0//EN
VERSION:2.0
BEGIN:VEVENT
DTEND;VALUE=DATE:20260905
DTSTAMP:20260422T092207Z
DTSTART;VALUE=DATE:20260905
LOCATION:TD Pavilion at Highmark Mann\, Philadelphia
ORGANIZER;CN=:mailto:events@events.org
SEQUENCE:0
SUMMARY:Empire of the Sun - Ask That God: Afterlife North American Tour
UID:0e174573-d139-4c12-8014-88f4b698862c
URL:https://events.org/e/Empire-of-the-Sun---Ask-That-God-Afterlife-No/S4A
 NXKF7
BEGIN:VALARM
ACTION:DISPLAY
SUMMARY:Reminder
TRIGGER:-P1D
END:VALARM
END:VEVENT
END:VCALENDAR
