BEGIN:VCALENDAR
METHOD:REQUEST
PRODID:-//events.orgNONSGML ical.net 4.0//EN
VERSION:2.0
BEGIN:VEVENT
DTEND;VALUE=DATE:20260523
DTSTAMP:20260424T081038Z
DTSTART;VALUE=DATE:20260523
LOCATION:Foundation Room at House of Blues Chicago\, Chicago
ORGANIZER;CN=:mailto:events@events.org
SEQUENCE:0
SUMMARY:IML BLUF Social Saturday
UID:9c5d8eb4-ee4d-4e30-b9de-d8ec74211762
URL:https://events.org/e/IML-BLUF-Social-Saturday/PJJQ9QPR
BEGIN:VALARM
ACTION:DISPLAY
SUMMARY:Reminder
TRIGGER:-P1D
END:VALARM
END:VEVENT
END:VCALENDAR
