BEGIN:VCALENDAR
METHOD:REQUEST
PRODID:-//events.orgNONSGML ical.net 4.0//EN
VERSION:2.0
BEGIN:VEVENT
DTEND;VALUE=DATE:20260517
DTSTAMP:20260422T091023Z
DTSTART;VALUE=DATE:20260517
LOCATION:Greek Theatre-Los Angeles\, Los Angeles
ORGANIZER;CN=:mailto:events@events.org
SEQUENCE:0
SUMMARY:Echo and the Bunnymen
UID:afe1fd9d-299b-44f9-bf1b-de439d1e6fff
URL:https://events.org/e/Echo-and-the-Bunnymen/L5NC3NGQ
BEGIN:VALARM
ACTION:DISPLAY
SUMMARY:Reminder
TRIGGER:-P1D
END:VALARM
END:VEVENT
END:VCALENDAR
