BEGIN:VCALENDAR
METHOD:REQUEST
PRODID:-//events.orgNONSGML ical.net 4.0//EN
VERSION:2.0
BEGIN:VEVENT
DTEND;VALUE=DATE:20260626
DTSTAMP:20260421T095115Z
DTSTART;VALUE=DATE:20260626
LOCATION:Paradise Rock Club presented by Citizens\, Boston
ORGANIZER;CN=:mailto:events@events.org
SEQUENCE:0
SUMMARY:Flawed Mangoes: The Killswitch Memories Tour
UID:7d9d7e70-9692-43f2-9b04-540bf47c2540
URL:https://events.org/e/Flawed-Mangoes-The-Killswitch-Memories-Tour/A9Q9G
 9LU
BEGIN:VALARM
ACTION:DISPLAY
SUMMARY:Reminder
TRIGGER:-P1D
END:VALARM
END:VEVENT
END:VCALENDAR
