BEGIN:VCALENDAR
METHOD:REQUEST
PRODID:-//events.orgNONSGML ical.net 4.0//EN
VERSION:2.0
BEGIN:VEVENT
DTEND;VALUE=DATE:20260615
DTSTAMP:20260421T094629Z
DTSTART;VALUE=DATE:20260615
LOCATION:MilkBoy Philadelphia\, Philadelphia
ORGANIZER;CN=:mailto:events@events.org
SEQUENCE:0
SUMMARY:Ike Dweck
UID:dd14eb20-2cf8-4dc1-8214-614778e97984
URL:https://events.org/e/Ike-Dweck/TKHXILDD
BEGIN:VALARM
ACTION:DISPLAY
SUMMARY:Reminder
TRIGGER:-P1D
END:VALARM
END:VEVENT
END:VCALENDAR
