BEGIN:VCALENDAR
METHOD:REQUEST
PRODID:-//events.orgNONSGML ical.net 4.0//EN
VERSION:2.0
BEGIN:VEVENT
DTEND;VALUE=DATE:20260418
DTSTAMP:20260421T082245Z
DTSTART;VALUE=DATE:20260418
LOCATION:Sony Hall\, New York
ORGANIZER;CN=:mailto:events@events.org
SEQUENCE:0
SUMMARY:Jeremy Jordan & Age Of Madness
UID:85b31b29-5532-45ba-bce3-ec5ec084dcdd
URL:https://events.org/e/Jeremy-Jordan-Age-Of-Madness/68VP9UEU
BEGIN:VALARM
ACTION:DISPLAY
SUMMARY:Reminder
TRIGGER:-P1D
END:VALARM
END:VEVENT
END:VCALENDAR
