BEGIN:VCALENDAR
METHOD:REQUEST
PRODID:-//events.orgNONSGML ical.net 4.0//EN
VERSION:2.0
BEGIN:VEVENT
DTEND;VALUE=DATE:20260426
DTSTAMP:20260424T081141Z
DTSTART;VALUE=DATE:20260426
LOCATION:David H. Koch Theater\, New York
ORGANIZER;CN=:mailto:events@events.org
SEQUENCE:0
SUMMARY:New York City Ballet Innovators & Icons
UID:68e4ba5d-d87c-4c26-be69-772ce12130c1
URL:https://events.org/e/New-York-City-Ballet-Innovators-Icons/5MTP5RMI
BEGIN:VALARM
ACTION:DISPLAY
SUMMARY:Reminder
TRIGGER:-P1D
END:VALARM
END:VEVENT
END:VCALENDAR
