BEGIN:VCALENDAR
METHOD:REQUEST
PRODID:-//events.orgNONSGML ical.net 4.0//EN
VERSION:2.0
BEGIN:VEVENT
DTEND;VALUE=DATE:20260606
DTSTAMP:20260422T085019Z
DTSTART;VALUE=DATE:20260606
LOCATION:Dudley Riggs Theatre\, Minneapolis
ORGANIZER;CN=:mailto:events@events.org
SEQUENCE:0
SUMMARY:Battle of the Improv All-Stars 2026
UID:5f488150-dbe3-4208-b64c-c90f32eed65b
URL:https://events.org/e/Battle-of-the-Improv-All-Stars-2026/9QKEILAJ
BEGIN:VALARM
ACTION:DISPLAY
SUMMARY:Reminder
TRIGGER:-P1D
END:VALARM
END:VEVENT
END:VCALENDAR
