BEGIN:VCALENDAR
METHOD:REQUEST
PRODID:-//events.orgNONSGML ical.net 4.0//EN
VERSION:2.0
BEGIN:VEVENT
DTEND;VALUE=DATE:20261029
DTSTAMP:20260421T142823Z
DTSTART;VALUE=DATE:20261029
LOCATION:The Cambridge Room at House Of Blues\, Dallas
ORGANIZER;CN=:mailto:events@events.org
SEQUENCE:0
SUMMARY:Chasing Abbey
UID:b81a4491-f9ef-444c-9e3a-71dd76a9ee80
URL:https://events.org/e/Chasing-Abbey/PDJJKWU7
BEGIN:VALARM
ACTION:DISPLAY
SUMMARY:Reminder
TRIGGER:-P1D
END:VALARM
END:VEVENT
END:VCALENDAR
