BEGIN:VCALENDAR
METHOD:REQUEST
PRODID:-//events.orgNONSGML ical.net 4.0//EN
VERSION:2.0
BEGIN:VEVENT
DTEND;VALUE=DATE:20260427
DTSTAMP:20260424T080801Z
DTSTART;VALUE=DATE:20260427
LOCATION:Hill Country Live\, New York
ORGANIZER;CN=:mailto:events@events.org
SEQUENCE:0
SUMMARY:West Texas Exiles with Zoe Pete Ford (Alt Country)
UID:8b44fb93-7799-4374-8f8f-cd31988d300a
URL:https://events.org/e/West-Texas-Exiles-with-Zoe-Pete-Ford-Alt-Country/
 BNJYXESP
BEGIN:VALARM
ACTION:DISPLAY
SUMMARY:Reminder
TRIGGER:-P1D
END:VALARM
END:VEVENT
END:VCALENDAR
