BEGIN:VCALENDAR
METHOD:REQUEST
PRODID:-//events.orgNONSGML ical.net 4.0//EN
VERSION:2.0
BEGIN:VEVENT
DTEND;VALUE=DATE:20260606
DTSTAMP:20260424T092617Z
DTSTART;VALUE=DATE:20260606
LOCATION:Almeda Mall\, Houston
ORGANIZER;CN=:mailto:events@events.org
SEQUENCE:0
SUMMARY:Flip Circus
UID:ea8aa2a1-809d-44b4-b944-ab077a1b768c
URL:https://events.org/e/Flip-Circus/CBGL9GR5
BEGIN:VALARM
ACTION:DISPLAY
SUMMARY:Reminder
TRIGGER:-P1D
END:VALARM
END:VEVENT
END:VCALENDAR
