BEGIN:VCALENDAR
METHOD:REQUEST
PRODID:-//events.orgNONSGML ical.net 4.0//EN
VERSION:2.0
BEGIN:VEVENT
DTEND;VALUE=DATE:20260425
DTSTAMP:20260422T085325Z
DTSTART;VALUE=DATE:20260425
LOCATION:Bowery Palace\, New York
ORGANIZER;CN=:mailto:events@events.org
SEQUENCE:0
SUMMARY:Jesse Malin's Silver Manhattan
UID:adf52243-ad99-4ec5-a15d-1207729cb221
URL:https://events.org/e/Jesse-Malins-Silver-Manhattan/6Q6GT5P4
BEGIN:VALARM
ACTION:DISPLAY
SUMMARY:Reminder
TRIGGER:-P1D
END:VALARM
END:VEVENT
END:VCALENDAR
