BEGIN:VCALENDAR
METHOD:REQUEST
PRODID:-//events.orgNONSGML ical.net 4.0//EN
VERSION:2.0
BEGIN:VEVENT
DTEND;VALUE=DATE:20260824
DTSTAMP:20260422T085003Z
DTSTART;VALUE=DATE:20260824
LOCATION:The Anthem\, Washington
ORGANIZER;CN=:mailto:events@events.org
SEQUENCE:0
SUMMARY:Labrinth: The Undoing Tour - Presented by the cosmic opera
UID:51d9b9c1-a559-4654-9abf-16dbf9ae1e3a
URL:https://events.org/e/Labrinth-The-Undoing-Tour---Presented-by-the/Q224
 83LD
BEGIN:VALARM
ACTION:DISPLAY
SUMMARY:Reminder
TRIGGER:-P1D
END:VALARM
END:VEVENT
END:VCALENDAR
