BEGIN:VCALENDAR
METHOD:REQUEST
PRODID:-//events.orgNONSGML ical.net 4.0//EN
VERSION:2.0
BEGIN:VEVENT
DTEND;VALUE=DATE:20260528
DTSTAMP:20260421T104115Z
DTSTART;VALUE=DATE:20260528
LOCATION:Universoul Circus - Atlanta - Old Turner Field Grey Lot\, Atlanta
ORGANIZER;CN=:mailto:events@events.org
SEQUENCE:0
SUMMARY:UniverSoul Circus
UID:a49379d1-3ce8-428f-bcf9-ec8afedbb0d4
URL:https://events.org/e/UniverSoul-Circus/C8J5UAAS
BEGIN:VALARM
ACTION:DISPLAY
SUMMARY:Reminder
TRIGGER:-P1D
END:VALARM
END:VEVENT
END:VCALENDAR
