BEGIN:VCALENDAR
METHOD:REQUEST
PRODID:-//events.orgNONSGML ical.net 4.0//EN
VERSION:2.0
BEGIN:VEVENT
DTEND;VALUE=DATE:20260425
DTSTAMP:20260423T133944Z
DTSTART;VALUE=DATE:20260425
LOCATION:Chop Suey\, Seattle
ORGANIZER;CN=:mailto:events@events.org
SEQUENCE:0
SUMMARY:PROMISCUOUS - A 2000's CLUB BANGERS THROWBACKS PARTY
UID:4ed5d6d3-026c-441d-a8ed-7903983f37ad
URL:https://events.org/e/PROMISCUOUS---A-2000s-CLUB-BANGERS-THROWBACKS/7X3
 GRUIA
BEGIN:VALARM
ACTION:DISPLAY
SUMMARY:Reminder
TRIGGER:-P1D
END:VALARM
END:VEVENT
END:VCALENDAR
