BEGIN:VCALENDAR
METHOD:REQUEST
PRODID:-//events.orgNONSGML ical.net 4.0//EN
VERSION:2.0
BEGIN:VEVENT
DTEND;VALUE=DATE:20260429
DTSTAMP:20260424T080614Z
DTSTART;VALUE=DATE:20260429
LOCATION:Neil Simon Theatre\, New York
ORGANIZER;CN=:mailto:events@events.org
SEQUENCE:0
SUMMARY:MJ (NY)
UID:6a286ef2-ad82-4234-83a4-bfcbb6335c68
URL:https://events.org/e/MJ-NY/PWBKDC2S
BEGIN:VALARM
ACTION:DISPLAY
SUMMARY:Reminder
TRIGGER:-P1D
END:VALARM
END:VEVENT
END:VCALENDAR
