BEGIN:VCALENDAR
METHOD:REQUEST
PRODID:-//events.orgNONSGML ical.net 4.0//EN
VERSION:2.0
BEGIN:VEVENT
DTEND;VALUE=DATE:20260619
DTSTAMP:20260421T104317Z
DTSTART;VALUE=DATE:20260619
LOCATION:The Atlantis\, Washington
ORGANIZER;CN=:mailto:events@events.org
SEQUENCE:0
SUMMARY:Dorian Electra
UID:7ea0efaa-f5da-4797-a528-cfd0bfff495b
URL:https://events.org/e/Dorian-Electra/K2QK43I8
BEGIN:VALARM
ACTION:DISPLAY
SUMMARY:Reminder
TRIGGER:-P1D
END:VALARM
END:VEVENT
END:VCALENDAR
