BEGIN:VCALENDAR
METHOD:REQUEST
PRODID:-//events.orgNONSGML ical.net 4.0//EN
VERSION:2.0
BEGIN:VEVENT
DTEND;VALUE=DATE:20260528
DTSTAMP:20260419T142633Z
DTSTART;VALUE=DATE:20260528
LOCATION:Nectar Lounge\, Seattle
ORGANIZER;CN=:mailto:events@events.org
SEQUENCE:0
SUMMARY:YELLOWMAN with DJ Kid Hops (KEXP) (21+ Event)
UID:77362a30-8358-4f16-9881-290584384e5b
URL:https://events.org/e/YELLOWMAN-with-DJ-Kid-Hops-KEXP-21-Event/SQLT6MHJ
BEGIN:VALARM
ACTION:DISPLAY
SUMMARY:Reminder
TRIGGER:-P1D
END:VALARM
END:VEVENT
END:VCALENDAR
