BEGIN:VCALENDAR
METHOD:REQUEST
PRODID:-//events.orgNONSGML ical.net 4.0//EN
VERSION:2.0
BEGIN:VEVENT
DTEND;VALUE=DATE:20260517
DTSTAMP:20260421T082525Z
DTSTART;VALUE=DATE:20260517
LOCATION:Thalia Hall\, Chicago
ORGANIZER;CN=:mailto:events@events.org
SEQUENCE:0
SUMMARY:*SOLD OUT* Twin Peaks with Neptune's Core and Carmen Christopher
UID:85fd5777-506a-41d3-96c4-1684d6146554
URL:https://events.org/e/SOLD-OUT-Twin-Peaks-with-Neptunes-Core-and-Ca/O3X
 8UUK5
BEGIN:VALARM
ACTION:DISPLAY
SUMMARY:Reminder
TRIGGER:-P1D
END:VALARM
END:VEVENT
END:VCALENDAR
