BEGIN:VCALENDAR
METHOD:REQUEST
PRODID:-//events.orgNONSGML ical.net 4.0//EN
VERSION:2.0
BEGIN:VEVENT
DTEND;VALUE=DATE:20260426
DTSTAMP:20260419T142320Z
DTSTART;VALUE=DATE:20260426
LOCATION:Empty Bottle\, Chicago
ORGANIZER;CN=:mailto:events@events.org
SEQUENCE:0
SUMMARY:Fantasy Lunch - Magic The Gathering
UID:70c0e93f-939b-44d0-9352-b430d0b44dee
URL:https://events.org/e/Fantasy-Lunch---Magic-The-Gathering/RVIG9CPK
BEGIN:VALARM
ACTION:DISPLAY
SUMMARY:Reminder
TRIGGER:-P1D
END:VALARM
END:VEVENT
END:VCALENDAR
