BEGIN:VCALENDAR
METHOD:REQUEST
PRODID:-//events.orgNONSGML ical.net 4.0//EN
VERSION:2.0
BEGIN:VEVENT
DTEND;VALUE=DATE:20260617
DTSTAMP:20260421T095548Z
DTSTART;VALUE=DATE:20260617
LOCATION:Casbah-San Diego\, San Diego
ORGANIZER;CN=:mailto:events@events.org
SEQUENCE:0
SUMMARY:The Builders and The Butchers
UID:4160b8f9-6ecb-479d-beb7-ad331c87b819
URL:https://events.org/e/The-Builders-and-The-Butchers/7XN65QSK
BEGIN:VALARM
ACTION:DISPLAY
SUMMARY:Reminder
TRIGGER:-P1D
END:VALARM
END:VEVENT
END:VCALENDAR
