BEGIN:VCALENDAR
METHOD:REQUEST
PRODID:-//events.orgNONSGML ical.net 4.0//EN
VERSION:2.0
BEGIN:VEVENT
DTEND;VALUE=DATE:20260321
DTSTAMP:20260419T125818Z
DTSTART;VALUE=DATE:20260321
LOCATION:Reggies Rock Club\, Chicago
ORGANIZER;CN=:mailto:events@events.org
SEQUENCE:0
SUMMARY:Ben Quad's Wisher Album Release Tour with Riley!\, Footballhead\, 
 and Ar
UID:96149dc8-5984-4a20-afcf-ff9756f7b5cf
URL:https://events.org/e/Ben-Quads-Wisher-Album-Release-Tour-with-Rile/RRE
 LX2EG
BEGIN:VALARM
ACTION:DISPLAY
SUMMARY:Reminder
TRIGGER:-P1D
END:VALARM
END:VEVENT
END:VCALENDAR
