BEGIN:VCALENDAR
METHOD:REQUEST
PRODID:-//events.orgNONSGML ical.net 4.0//EN
VERSION:2.0
BEGIN:VEVENT
DTEND;VALUE=DATE:20260611
DTSTAMP:20260421T103624Z
DTSTART;VALUE=DATE:20260611
LOCATION:Cafe Du Nord\, San Francisco
ORGANIZER;CN=:mailto:events@events.org
SEQUENCE:0
SUMMARY:Camp Blu x Famous Friend x Floats
UID:35597bbb-4683-4a3f-bad5-03c67d8a0476
URL:https://events.org/e/Camp-Blu-x-Famous-Friend-x-Floats/38BK33GV
BEGIN:VALARM
ACTION:DISPLAY
SUMMARY:Reminder
TRIGGER:-P1D
END:VALARM
END:VEVENT
END:VCALENDAR
