BEGIN:VCALENDAR
METHOD:REQUEST
PRODID:-//events.orgNONSGML ical.net 4.0//EN
VERSION:2.0
BEGIN:VEVENT
DTEND;VALUE=DATE:20260527
DTSTAMP:20260419T170125Z
DTSTART;VALUE=DATE:20260527
LOCATION:MGM Music Hall at Fenway\, Boston
ORGANIZER;CN=:mailto:events@events.org
SEQUENCE:0
SUMMARY:ELECTRIC CALLBOY: TANZNEID WORLD TOUR
UID:7f41576a-1605-4f29-8f6c-71ad64783b5a
URL:https://events.org/e/ELECTRIC-CALLBOY-TANZNEID-WORLD-TOUR/M8VHJRNY
BEGIN:VALARM
ACTION:DISPLAY
SUMMARY:Reminder
TRIGGER:-P1D
END:VALARM
END:VEVENT
END:VCALENDAR
