BEGIN:VCALENDAR
METHOD:REQUEST
PRODID:-//events.orgNONSGML ical.net 4.0//EN
VERSION:2.0
BEGIN:VEVENT
DTEND;VALUE=DATE:20260428
DTSTAMP:20260424T081542Z
DTSTART;VALUE=DATE:20260428
LOCATION:Birdland Theater\, New York
ORGANIZER;CN=:mailto:events@events.org
SEQUENCE:0
SUMMARY:Vince Giordano and the Nighthawks
UID:1c941034-eaac-4fd1-ba02-695f31d56c2e
URL:https://events.org/e/Vince-Giordano-and-the-Nighthawks/QYBVISP6
BEGIN:VALARM
ACTION:DISPLAY
SUMMARY:Reminder
TRIGGER:-P1D
END:VALARM
END:VEVENT
END:VCALENDAR
