BEGIN:VCALENDAR
METHOD:REQUEST
PRODID:-//events.orgNONSGML ical.net 4.0//EN
VERSION:2.0
BEGIN:VEVENT
DTEND;VALUE=DATE:20260613
DTSTAMP:20260421T095110Z
DTSTART;VALUE=DATE:20260613
LOCATION:Petco Park\, San Diego
ORGANIZER;CN=:mailto:events@events.org
SEQUENCE:0
SUMMARY:LN x SMKFLWR Presents Field of Dreamz
UID:0281139c-c6f9-4389-93b1-7f2d42222188
URL:https://events.org/e/LN-x-SMKFLWR-Presents-Field-of-Dreamz/97SBGNPC
BEGIN:VALARM
ACTION:DISPLAY
SUMMARY:Reminder
TRIGGER:-P1D
END:VALARM
END:VEVENT
END:VCALENDAR
