BEGIN:VCALENDAR
METHOD:REQUEST
PRODID:-//events.orgNONSGML ical.net 4.0//EN
VERSION:2.0
BEGIN:VEVENT
DTEND;VALUE=DATE:20260529
DTSTAMP:20260419T142219Z
DTSTART;VALUE=DATE:20260529
LOCATION:The Masquerade - Heaven\, Atlanta
ORGANIZER;CN=:mailto:events@events.org
SEQUENCE:0
SUMMARY:Wage War - It Calls Me By Name Tour
UID:a4b8c994-323a-41f0-a6eb-3b65b2eb7027
URL:https://events.org/e/Wage-War---It-Calls-Me-By-Name-Tour/USJ7W6JB
BEGIN:VALARM
ACTION:DISPLAY
SUMMARY:Reminder
TRIGGER:-P1D
END:VALARM
END:VEVENT
END:VCALENDAR
