BEGIN:VCALENDAR
METHOD:REQUEST
PRODID:-//events.orgNONSGML ical.net 4.0//EN
VERSION:2.0
BEGIN:VEVENT
DTEND;VALUE=DATE:20260423
DTSTAMP:20260422T090851Z
DTSTART;VALUE=DATE:20260423
LOCATION:New World Stages - Stage 2\, New York
ORGANIZER;CN=:mailto:events@events.org
SEQUENCE:0
SUMMARY:The Gazillion Bubble Show
UID:653eff27-6d26-432f-87ad-f4eec0e20e2a
URL:https://events.org/e/The-Gazillion-Bubble-Show/G444VJLT
BEGIN:VALARM
ACTION:DISPLAY
SUMMARY:Reminder
TRIGGER:-P1D
END:VALARM
END:VEVENT
END:VCALENDAR
