BEGIN:VCALENDAR
METHOD:REQUEST
PRODID:-//events.orgNONSGML ical.net 4.0//EN
VERSION:2.0
BEGIN:VEVENT
DTEND;VALUE=DATE:20260421
DTSTAMP:20260421T082311Z
DTSTART;VALUE=DATE:20260421
LOCATION:Westside Theatre Upstairs\, New York
ORGANIZER;CN=:mailto:events@events.org
SEQUENCE:0
SUMMARY:Little Shop Of Horrors
UID:a4001217-e9df-4166-ace9-0a9425880f48
URL:https://events.org/e/Little-Shop-Of-Horrors/8DTRNCHV
BEGIN:VALARM
ACTION:DISPLAY
SUMMARY:Reminder
TRIGGER:-P1D
END:VALARM
END:VEVENT
END:VCALENDAR
