BEGIN:VCALENDAR
METHOD:REQUEST
PRODID:-//events.orgNONSGML ical.net 4.0//EN
VERSION:2.0
BEGIN:VEVENT
DTEND;VALUE=DATE:20260521
DTSTAMP:20260425T201859Z
DTSTART;VALUE=DATE:20260521
LOCATION:Stages - Lester and Sue Smith Stage\, Houston
ORGANIZER;CN=:mailto:events@events.org
SEQUENCE:0
SUMMARY:That Drive Thru Monterey
UID:25776dcb-3127-46ae-9f2b-382d0c97b154
URL:https://events.org/e/That-Drive-Thru-Monterey/TOUVIA6S
BEGIN:VALARM
ACTION:DISPLAY
SUMMARY:Reminder
TRIGGER:-P1D
END:VALARM
END:VEVENT
END:VCALENDAR
