BEGIN:VCALENDAR
METHOD:REQUEST
PRODID:-//events.orgNONSGML ical.net 4.0//EN
VERSION:2.0
BEGIN:VEVENT
DTEND;VALUE=DATE:20260425
DTSTAMP:20260422T083811Z
DTSTART;VALUE=DATE:20260425
LOCATION:Hill Country Live\, New York
ORGANIZER;CN=:mailto:events@events.org
SEQUENCE:0
SUMMARY:Tom Petty & The Heartbreakers tribute-Refugee
UID:293cf214-54d1-4d01-bf8d-15838410dc9e
URL:https://events.org/e/Tom-Petty-The-Heartbreakers-tribute-Refugee/FSO2J
 HKI
BEGIN:VALARM
ACTION:DISPLAY
SUMMARY:Reminder
TRIGGER:-P1D
END:VALARM
END:VEVENT
END:VCALENDAR
