BEGIN:VCALENDAR
METHOD:REQUEST
PRODID:-//events.orgNONSGML ical.net 4.0//EN
VERSION:2.0
BEGIN:VEVENT
DTEND;VALUE=DATE:20260714
DTSTAMP:20260421T103756Z
DTSTART;VALUE=DATE:20260714
LOCATION:Ogden Theatre\, Denver
ORGANIZER;CN=:mailto:events@events.org
SEQUENCE:0
SUMMARY:Chance Pena (16 and Over) - Tuesday
UID:8f7b8d0c-b0e5-41e0-8d66-062bb4ea4396
URL:https://events.org/e/Chance-Pena-16-and-Over---Tuesday/JMHVX4VD
BEGIN:VALARM
ACTION:DISPLAY
SUMMARY:Reminder
TRIGGER:-P1D
END:VALARM
END:VEVENT
END:VCALENDAR
