BEGIN:VCALENDAR
METHOD:REQUEST
PRODID:-//events.orgNONSGML ical.net 4.0//EN
VERSION:2.0
BEGIN:VEVENT
DTEND;VALUE=DATE:20260428
DTSTAMP:20260423T132954Z
DTSTART;VALUE=DATE:20260428
LOCATION:SOMA - Sidestage\, San Diego
ORGANIZER;CN=:mailto:events@events.org
SEQUENCE:0
SUMMARY:thrown
UID:17bc0811-46c6-4f73-a97d-60ef926384dc
URL:https://events.org/e/thrown/KN3G9Q23
BEGIN:VALARM
ACTION:DISPLAY
SUMMARY:Reminder
TRIGGER:-P1D
END:VALARM
END:VEVENT
END:VCALENDAR
