BEGIN:VCALENDAR
METHOD:REQUEST
PRODID:-//events.orgNONSGML ical.net 4.0//EN
VERSION:2.0
BEGIN:VEVENT
DTEND;VALUE=DATE:20260524
DTSTAMP:20260422T091353Z
DTSTART;VALUE=DATE:20260524
LOCATION:Vic Theatre\, Chicago
ORGANIZER;CN=:mailto:events@events.org
SEQUENCE:0
SUMMARY:Thornhill w/ 156 Silence
UID:1c6a0857-79a4-438b-a84a-28ccb476d773
URL:https://events.org/e/Thornhill-w-156-Silence/J75YQ37H
BEGIN:VALARM
ACTION:DISPLAY
SUMMARY:Reminder
TRIGGER:-P1D
END:VALARM
END:VEVENT
END:VCALENDAR
