BEGIN:VCALENDAR
METHOD:REQUEST
PRODID:-//events.orgNONSGML ical.net 4.0//EN
VERSION:2.0
BEGIN:VEVENT
DTEND;VALUE=DATE:20260425
DTSTAMP:20260422T083923Z
DTSTART;VALUE=DATE:20260425
LOCATION:Beacon Theatre\, New York
ORGANIZER;CN=:mailto:events@events.org
SEQUENCE:0
SUMMARY:BERT KREISCHER: PERMISSION TO PARTY
UID:8af51766-33a9-4c9b-bbd5-8c3db8072110
URL:https://events.org/e/BERT-KREISCHER-PERMISSION-TO-PARTY/4NS5JY6W
BEGIN:VALARM
ACTION:DISPLAY
SUMMARY:Reminder
TRIGGER:-P1D
END:VALARM
END:VEVENT
END:VCALENDAR
