BEGIN:VCALENDAR
METHOD:REQUEST
PRODID:-//events.orgNONSGML ical.net 4.0//EN
VERSION:2.0
BEGIN:VEVENT
DTEND;VALUE=DATE:20260419
DTSTAMP:20260421T082311Z
DTSTART;VALUE=DATE:20260419
LOCATION:House of the Redeemer\, New York
ORGANIZER;CN=:mailto:events@events.org
SEQUENCE:0
SUMMARY:TRU
UID:0a4998a0-fcb0-453c-915c-7681e967b191
URL:https://events.org/e/TRU/P8NS8W4L
BEGIN:VALARM
ACTION:DISPLAY
SUMMARY:Reminder
TRIGGER:-P1D
END:VALARM
END:VEVENT
END:VCALENDAR
