BEGIN:VCALENDAR
METHOD:REQUEST
PRODID:-//events.orgNONSGML ical.net 4.0//EN
VERSION:2.0
BEGIN:VEVENT
DTEND;VALUE=DATE:20260522
DTSTAMP:20260424T092046Z
DTSTART;VALUE=DATE:20260522
LOCATION:Aisle 5\, Atlanta
ORGANIZER;CN=:mailto:events@events.org
SEQUENCE:0
SUMMARY:hallpass
UID:9103b1b2-a211-4332-8850-c6a306419158
URL:https://events.org/e/hallpass/MB59RALT
BEGIN:VALARM
ACTION:DISPLAY
SUMMARY:Reminder
TRIGGER:-P1D
END:VALARM
END:VEVENT
END:VCALENDAR
