BEGIN:VCALENDAR
METHOD:REQUEST
PRODID:-//events.orgNONSGML ical.net 4.0//EN
VERSION:2.0
BEGIN:VEVENT
DTEND;VALUE=DATE:20260616
DTSTAMP:20260423T133816Z
DTSTART;VALUE=DATE:20260616
LOCATION:Daikin Park\, Houston
ORGANIZER;CN=:mailto:events@events.org
SEQUENCE:0
SUMMARY:Houston Astros vs. Detroit Tigers
UID:0062a329-356f-47a0-8c50-8e932de46379
URL:https://events.org/e/Houston-Astros-vs-Detroit-Tigers/RLYYEDJL
BEGIN:VALARM
ACTION:DISPLAY
SUMMARY:Reminder
TRIGGER:-P1D
END:VALARM
END:VEVENT
END:VCALENDAR
