BEGIN:VCALENDAR
METHOD:REQUEST
PRODID:-//events.orgNONSGML ical.net 4.0//EN
VERSION:2.0
BEGIN:VEVENT
DTEND;VALUE=DATE:20260523
DTSTAMP:20260424T092107Z
DTSTART;VALUE=DATE:20260523
LOCATION:The Independent\, San Francisco
ORGANIZER;CN=:mailto:events@events.org
SEQUENCE:0
SUMMARY:Hannah Lew
UID:9941d10c-c1ab-481e-9f5c-a2c100abec2b
URL:https://events.org/e/Hannah-Lew/C4X3IAIG
BEGIN:VALARM
ACTION:DISPLAY
SUMMARY:Reminder
TRIGGER:-P1D
END:VALARM
END:VEVENT
END:VCALENDAR
