BEGIN:VCALENDAR
METHOD:REQUEST
PRODID:-//events.orgNONSGML ical.net 4.0//EN
VERSION:2.0
BEGIN:VEVENT
DTEND;VALUE=DATE:20260626
DTSTAMP:20260421T104641Z
DTSTART;VALUE=DATE:20260626
LOCATION:Paramount Theatre\, Denver
ORGANIZER;CN=:mailto:events@events.org
SEQUENCE:0
SUMMARY:Paramount Theatre Club Seating: Rene Vaca
UID:21cea0c5-1229-43cc-bf3a-a6d995929ccb
URL:https://events.org/e/Paramount-Theatre-Club-Seating-Rene-Vaca/DT6E8DJW
BEGIN:VALARM
ACTION:DISPLAY
SUMMARY:Reminder
TRIGGER:-P1D
END:VALARM
END:VEVENT
END:VCALENDAR
