BEGIN:VCALENDAR
METHOD:REQUEST
PRODID:-//events.orgNONSGML ical.net 4.0//EN
VERSION:2.0
BEGIN:VEVENT
DTEND;VALUE=DATE:20260516
DTSTAMP:20260422T091023Z
DTSTART;VALUE=DATE:20260516
LOCATION:Scout Bar - Houston\, Houston
ORGANIZER;CN=:mailto:events@events.org
SEQUENCE:0
SUMMARY:The Spazmatics (18+ Event)
UID:1deff7a6-d3dd-467c-89f1-78fadfe68c20
URL:https://events.org/e/The-Spazmatics-18-Event/2DXI2E6F
BEGIN:VALARM
ACTION:DISPLAY
SUMMARY:Reminder
TRIGGER:-P1D
END:VALARM
END:VEVENT
END:VCALENDAR
