BEGIN:VCALENDAR
METHOD:REQUEST
PRODID:-//events.orgNONSGML ical.net 4.0//EN
VERSION:2.0
BEGIN:VEVENT
DTEND;VALUE=DATE:20260520
DTSTAMP:20260421T081913Z
DTSTART;VALUE=DATE:20260520
LOCATION:Balboa Theatre\, San Diego
ORGANIZER;CN=:mailto:events@events.org
SEQUENCE:0
SUMMARY:The Bulwark Presents Bulwark Live!
UID:f73a39f7-f809-429e-b9da-863af4a47863
URL:https://events.org/e/The-Bulwark-Presents-Bulwark-Live/6JM8IRJI
BEGIN:VALARM
ACTION:DISPLAY
SUMMARY:Reminder
TRIGGER:-P1D
END:VALARM
END:VEVENT
END:VCALENDAR
