BEGIN:VCALENDAR
METHOD:REQUEST
PRODID:-//events.orgNONSGML ical.net 4.0//EN
VERSION:2.0
BEGIN:VEVENT
DTEND;VALUE=DATE:20261014
DTSTAMP:20260422T090446Z
DTSTART;VALUE=DATE:20261014
LOCATION:Arizona Financial Theatre\, Phoenix
ORGANIZER;CN=:mailto:events@events.org
SEQUENCE:0
SUMMARY:Rise Against: Ricochet 2026
UID:dd1a712b-b855-4311-ae55-c4c45f01ff4f
URL:https://events.org/e/Rise-Against-Ricochet-2026/JFKL632K
BEGIN:VALARM
ACTION:DISPLAY
SUMMARY:Reminder
TRIGGER:-P1D
END:VALARM
END:VEVENT
END:VCALENDAR
