BEGIN:VCALENDAR
METHOD:REQUEST
PRODID:-//events.orgNONSGML ical.net 4.0//EN
VERSION:2.0
BEGIN:VEVENT
DTEND;VALUE=DATE:20260426
DTSTAMP:20260422T084601Z
DTSTART;VALUE=DATE:20260426
LOCATION:Orpheum Theatre NYC\, New York
ORGANIZER;CN=:mailto:events@events.org
SEQUENCE:0
SUMMARY:11 to Midnight
UID:d082979a-ee26-4647-8eec-ca6228bbe497
URL:https://events.org/e/11-to-Midnight/VV7QGBK4
BEGIN:VALARM
ACTION:DISPLAY
SUMMARY:Reminder
TRIGGER:-P1D
END:VALARM
END:VEVENT
END:VCALENDAR
