BEGIN:VCALENDAR
METHOD:REQUEST
PRODID:-//events.orgNONSGML ical.net 4.0//EN
VERSION:2.0
BEGIN:VEVENT
DTEND;VALUE=DATE:20260612
DTSTAMP:20260421T104532Z
DTSTART;VALUE=DATE:20260612
LOCATION:Brick and Mortar Music Hall\, San Francisco
ORGANIZER;CN=:mailto:events@events.org
SEQUENCE:0
SUMMARY:By Storm — My Ghost Go Ghost Tour
UID:979d0d33-965b-47ee-9255-a7b0eab98bbd
URL:https://events.org/e/By-Storm---My-Ghost-Go-Ghost-Tour/UAJNNHH7
BEGIN:VALARM
ACTION:DISPLAY
SUMMARY:Reminder
TRIGGER:-P1D
END:VALARM
END:VEVENT
END:VCALENDAR
