BEGIN:VCALENDAR
METHOD:REQUEST
PRODID:-//events.orgNONSGML ical.net 4.0//EN
VERSION:2.0
BEGIN:VEVENT
DTEND;VALUE=DATE:20261005
DTSTAMP:20260421T095735Z
DTSTART;VALUE=DATE:20261005
LOCATION:Hard Rock Cafe Miami\, Miami
ORGANIZER;CN=:mailto:events@events.org
SEQUENCE:0
SUMMARY:Ride and Dine! Hard Rock Cafe Miami and Big Bus Tours Miami
UID:1e6761e6-4c2a-44b3-9bfe-36436b38ee72
URL:https://events.org/e/Ride-and-Dine-Hard-Rock-Cafe-Miami-and-Big-Bu/C2H
 TVQ8U
BEGIN:VALARM
ACTION:DISPLAY
SUMMARY:Reminder
TRIGGER:-P1D
END:VALARM
END:VEVENT
END:VCALENDAR
