BEGIN:VCALENDAR
METHOD:REQUEST
PRODID:-//events.orgNONSGML ical.net 4.0//EN
VERSION:2.0
BEGIN:VEVENT
DTEND;VALUE=DATE:20261020
DTSTAMP:20260421T104640Z
DTSTART;VALUE=DATE:20261020
LOCATION:Pitbull Stadium\, Miami
ORGANIZER;CN=:mailto:events@events.org
SEQUENCE:0
SUMMARY:Florida International Panthers Football vs. Middle Tennessee State
  Blue Raiders Football
UID:fc358758-9351-42f6-9db2-31ea2c88c83c
URL:https://events.org/e/Florida-International-Panthers-Football-vs-Mi/54W
 2PDTW
BEGIN:VALARM
ACTION:DISPLAY
SUMMARY:Reminder
TRIGGER:-P1D
END:VALARM
END:VEVENT
END:VCALENDAR
