BEGIN:VCALENDAR
METHOD:REQUEST
PRODID:-//events.orgNONSGML ical.net 4.0//EN
VERSION:2.0
BEGIN:VEVENT
DTEND;VALUE=DATE:20260726
DTSTAMP:20260424T092617Z
DTSTART;VALUE=DATE:20260726
LOCATION:Thunderbird Lounge\, Phoenix
ORGANIZER;CN=:mailto:events@events.org
SEQUENCE:0
SUMMARY:Summer Cornhole
UID:3422b652-30eb-4bfd-8a69-dd58096f5ab0
URL:https://events.org/e/Summer-Cornhole/4VOAJKB8
BEGIN:VALARM
ACTION:DISPLAY
SUMMARY:Reminder
TRIGGER:-P1D
END:VALARM
END:VEVENT
END:VCALENDAR
